BEGIN:VCALENDAR
VERSION:2.0
PRODID:-//Care for a Caregiver - ECPv5.3.2.1//NONSGML v1.0//EN
CALSCALE:GREGORIAN
METHOD:PUBLISH
X-WR-CALNAME:Care for a Caregiver
X-ORIGINAL-URL:https://www.careforacaregiver.com
X-WR-CALDESC:Events for Care for a Caregiver
BEGIN:VTIMEZONE
TZID:America/New_York
BEGIN:DAYLIGHT
TZOFFSETFROM:-0500
TZOFFSETTO:-0400
TZNAME:EDT
DTSTART:20150308T070000
END:DAYLIGHT
BEGIN:STANDARD
TZOFFSETFROM:-0400
TZOFFSETTO:-0500
TZNAME:EST
DTSTART:20151101T060000
END:STANDARD
END:VTIMEZONE
BEGIN:VEVENT
DTSTART;VALUE=DATE:20150227
DTEND;VALUE=DATE:20150228
DTSTAMP:20260424T184201
CREATED:20150302T023152Z
LAST-MODIFIED:20150302T025222Z
UID:1136-1424995200-1425081599@www.careforacaregiver.com
SUMMARY:Patriot Voices at CPAC
DESCRIPTION:Eileen Benthal is NYS Co-Chair. \n\n\n	Related
URL:https://www.careforacaregiver.com/event/patriot-voices-cpac/
LOCATION:Gaylord National Resort & Convention Center\, Washington DC
CATEGORIES:Events
ATTACH;FMTTYPE=image/jpeg:https://www.careforacaregiver.com/wp-content/uploads/2015/03/PatriotVoices.jpg
END:VEVENT
END:VCALENDAR