BEGIN:VCALENDAR
VERSION:2.0
PRODID:-//Care for a Caregiver - ECPv5.3.2.1//NONSGML v1.0//EN
CALSCALE:GREGORIAN
METHOD:PUBLISH
X-WR-CALNAME:Care for a Caregiver
X-ORIGINAL-URL:https://www.careforacaregiver.com
X-WR-CALDESC:Events for Care for a Caregiver
BEGIN:VTIMEZONE
TZID:America/New_York
BEGIN:DAYLIGHT
TZOFFSETFROM:-0500
TZOFFSETTO:-0400
TZNAME:EDT
DTSTART:20140309T070000
END:DAYLIGHT
BEGIN:STANDARD
TZOFFSETFROM:-0400
TZOFFSETTO:-0500
TZNAME:EST
DTSTART:20141102T060000
END:STANDARD
END:VTIMEZONE
BEGIN:VEVENT
DTSTART;VALUE=DATE:20141108
DTEND;VALUE=DATE:20141109
DTSTAMP:20260424T184217
CREATED:20140605T040340Z
LAST-MODIFIED:20140605T040400Z
UID:536-1415404800-1415491199@www.careforacaregiver.com
SUMMARY:Diocesan Women's Conference
DESCRIPTION:Related
URL:https://www.careforacaregiver.com/event/diocesan-womens-conference/
CATEGORIES:Events
END:VEVENT
END:VCALENDAR