BEGIN:VCALENDAR
VERSION:2.0
PRODID:-//Care for a Caregiver - ECPv5.3.2.1//NONSGML v1.0//EN
CALSCALE:GREGORIAN
METHOD:PUBLISH
X-WR-CALNAME:Care for a Caregiver
X-ORIGINAL-URL:https://www.careforacaregiver.com
X-WR-CALDESC:Events for Care for a Caregiver
BEGIN:VTIMEZONE
TZID:America/New_York
BEGIN:DAYLIGHT
TZOFFSETFROM:-0500
TZOFFSETTO:-0400
TZNAME:EDT
DTSTART:20140309T070000
END:DAYLIGHT
BEGIN:STANDARD
TZOFFSETFROM:-0400
TZOFFSETTO:-0500
TZNAME:EST
DTSTART:20141102T060000
END:STANDARD
END:VTIMEZONE
BEGIN:VEVENT
DTSTART;TZID=America/New_York:20140606T073000
DTEND;TZID=America/New_York:20140606T210000
DTSTAMP:20260424T165151
CREATED:20140605T035340Z
LAST-MODIFIED:20140605T035452Z
UID:534-1402039800-1402088400@www.careforacaregiver.com
SUMMARY:Pentecost Mass w/ the CRS's
DESCRIPTION:http://www.nycago.org/Organs/Brx/html/StCrispinFriary.html \n\n\n	Related
URL:https://www.careforacaregiver.com/event/534/
CATEGORIES:Events
END:VEVENT
END:VCALENDAR